BEGIN:VCALENDAR
VERSION:2.0
PRODID:-//www.ketchikanarts.org//NONSGML kigkonsult.se iCalcreator 2.30.10/
 /
CALSCALE:GREGORIAN
METHOD:PUBLISH
UID:88e12e8d-d52a-45ca-a94a-fe0c2979690d
X-WR-CALDESC:A wonderful Magician entertains Ketchikan straight off a Cruis
 e Ship\, every Monday through September! Come enjoy a magical treat over y
 our lunch hour! Free
X-WR-RELCALID:2791014b1816ea039306d41ab846aec1
X-WR-TIMEZONE:America/Anchorage
BEGIN:VTIMEZONE
TZID:America/Anchorage
BEGIN:STANDARD
TZNAME:AKST
DTSTART:20181104T020000
TZOFFSETFROM:-0800
TZOFFSETTO:-0900
RDATE:20191103T020000
RDATE:20201101T020000
END:STANDARD
BEGIN:DAYLIGHT
TZNAME:AKDT
DTSTART:20190310T020000
TZOFFSETFROM:-0900
TZOFFSETTO:-0800
RDATE:20200308T020000
END:DAYLIGHT
END:VTIMEZONE
BEGIN:VEVENT
UID:797397c9-a197-40bf-a88d-e50ef475654b
DTSTAMP:20260422T113528Z
DESCRIPTION:A wonderful Magician entertains Ketchikan straight off a Cruise
  Ship\, every Monday through September! Come enjoy a magical treat over yo
 ur lunch hour! Free
DTSTART;TZID=America/Anchorage:20190902T120000
DTEND;TZID=America/Anchorage:20190902T130000
LOCATION:Creek Street Cabaret
SUMMARY:Magician at Creek Street Cabaret
END:VEVENT
END:VCALENDAR
