BEGIN:VCALENDAR
VERSION:2.0
PRODID:-//www.ketchikanarts.org//NONSGML kigkonsult.se iCalcreator 2.30.10/
 /
CALSCALE:GREGORIAN
METHOD:PUBLISH
UID:15651b5b-bd1b-4d10-8827-4cd8c775537a
X-WR-CALDESC:Swing Dance to Live Music with Evon and Friends. No need to ha
 ve a partner.  The swing basic class beforehand then practice your new mov
 es to Live music!
X-WR-RELCALID:919e156ef48861a2df93f75a658206c0
X-WR-TIMEZONE:America/Anchorage
BEGIN:VTIMEZONE
TZID:America/Anchorage
BEGIN:STANDARD
TZNAME:AKST
DTSTART:20181104T020000
TZOFFSETFROM:-0800
TZOFFSETTO:-0900
RDATE:20191103T020000
RDATE:20201101T020000
END:STANDARD
BEGIN:DAYLIGHT
TZNAME:AKDT
DTSTART:20190310T020000
TZOFFSETFROM:-0900
TZOFFSETTO:-0800
RDATE:20200308T020000
END:DAYLIGHT
END:VTIMEZONE
BEGIN:VEVENT
UID:d5cbf2a0-3788-430b-9394-4b365279d4e5
DTSTAMP:20260422T125045Z
DESCRIPTION:Swing Dance to Live Music with Evon and Friends. No need to hav
 e a partner.  The swing basic class beforehand then practice your new move
 s to Live music!
DTSTART;TZID=America/Anchorage:20190831T190000
DTEND;TZID=America/Anchorage:20190831T210000
LOCATION:Creek Street Cabaret
SUMMARY:BOOMbal Dance Hall
END:VEVENT
END:VCALENDAR
