BEGIN:VCALENDAR
VERSION:2.0
PRODID:-//www.ketchikanarts.org//NONSGML kigkonsult.se iCalcreator 2.30.10/
 /
CALSCALE:GREGORIAN
METHOD:PUBLISH
UID:46f4a197-bc5a-461d-a7b3-87d02e7ec4c3
X-WR-CALDESC:Learn how to paint watercolor whales\, learn watercolor techni
 ques and have some fun!!!\nAll supplies will be provided. Class is $35 per
  person and must be paid in advance to book your seat and pay for supplies
 . PayPal\, Google Pay\, and Venmo accepted. Cash or card in person.
X-WR-RELCALID:43d7cee11b87edde8fba2fda6742ff62
X-WR-TIMEZONE:America/Anchorage
BEGIN:VTIMEZONE
TZID:America/Anchorage
BEGIN:STANDARD
TZNAME:AKST
DTSTART:20181104T020000
TZOFFSETFROM:-0800
TZOFFSETTO:-0900
RDATE:20191103T020000
RDATE:20201101T020000
END:STANDARD
BEGIN:DAYLIGHT
TZNAME:AKDT
DTSTART:20190310T020000
TZOFFSETFROM:-0900
TZOFFSETTO:-0800
RDATE:20200308T020000
END:DAYLIGHT
END:VTIMEZONE
BEGIN:VEVENT
UID:f2781660-ebc7-4fdc-8780-5d083cbfe715
DTSTAMP:20260422T125201Z
DESCRIPTION:Learn how to paint watercolor whales\, learn watercolor techniq
 ues and have some fun!!!\nAll supplies will be provided. Class is $35 per 
 person and must be paid in advance to book your seat and pay for supplies.
  PayPal\, Google Pay\, and Venmo accepted. Cash or card in person.
DTSTART;TZID=America/Anchorage:20190830T180000
DTEND;TZID=America/Anchorage:20190830T200000
LOCATION:Vibrance a Creative Space
SUMMARY:Water Color Whales
END:VEVENT
END:VCALENDAR
