BEGIN:VCALENDAR
VERSION:2.0
PRODID:-//www.ketchikanarts.org//NONSGML kigkonsult.se iCalcreator 2.30.10/
 /
CALSCALE:GREGORIAN
METHOD:PUBLISH
UID:2611cfd7-46b1-482d-b92c-146ef7dd2ff1
X-WR-CALDESC:Dave Rubin\, guitar\, Hannah Karrick\, violin\, and Chazz Gist
 \, bass\, play every Friday night at the New York Cafe for your listening 
 pleasure.
X-WR-RELCALID:c469acd0a7a331c163e910ee8aa884bd
X-WR-TIMEZONE:America/Anchorage
BEGIN:VTIMEZONE
TZID:America/Anchorage
BEGIN:STANDARD
TZNAME:AKST
DTSTART:20181104T020000
TZOFFSETFROM:-0800
TZOFFSETTO:-0900
RDATE:20191103T020000
RDATE:20201101T020000
END:STANDARD
BEGIN:DAYLIGHT
TZNAME:AKDT
DTSTART:20190310T020000
TZOFFSETFROM:-0900
TZOFFSETTO:-0800
RDATE:20200308T020000
END:DAYLIGHT
END:VTIMEZONE
BEGIN:VEVENT
UID:417d3b76-276e-486a-86e6-0d04a4199003
DTSTAMP:20260422T125342Z
DESCRIPTION:Dave Rubin\, guitar\, Hannah Karrick\, violin\, and Chazz Gist\
 , bass\, play every Friday night at the New York Cafe for your listening p
 leasure.
DTSTART;TZID=America/Anchorage:20190830T190000
DTEND;TZID=America/Anchorage:20190830T210000
LOCATION:New York Cafe
SUMMARY:Dave\, Hannah\, and Chazz
END:VEVENT
END:VCALENDAR
