BEGIN:VCALENDAR
VERSION:2.0
PRODID:-//www.ketchikanarts.org//NONSGML kigkonsult.se iCalcreator 2.30.10/
 /
CALSCALE:GREGORIAN
METHOD:PUBLISH
UID:bc72368f-c6a6-42ce-93bc-963b1d086f0f
X-WR-CALDESC:A wonderful Magician entertains Ketchikan Straight off a Cruis
 e Ship\, Every Monday through September! Come enjoy a magical treat over y
 our lunch hour! Free
X-WR-RELCALID:f0f6e3ae8ccb7f600c1c64fca328b8c5
X-WR-TIMEZONE:America/Anchorage
BEGIN:VTIMEZONE
TZID:America/Anchorage
BEGIN:STANDARD
TZNAME:AKST
DTSTART:20181104T020000
TZOFFSETFROM:-0800
TZOFFSETTO:-0900
RDATE:20191103T020000
RDATE:20201101T020000
END:STANDARD
BEGIN:DAYLIGHT
TZNAME:AKDT
DTSTART:20190310T020000
TZOFFSETFROM:-0900
TZOFFSETTO:-0800
RDATE:20200308T020000
END:DAYLIGHT
END:VTIMEZONE
BEGIN:VEVENT
UID:c963b3d9-a994-4bce-a613-ff3839761f0a
DTSTAMP:20260422T125216Z
DESCRIPTION:A wonderful Magician entertains Ketchikan Straight off a Cruise
  Ship\, Every Monday through September! Come enjoy a magical treat over yo
 ur lunch hour! Free
DTSTART;TZID=America/Anchorage:20190826T120000
DTEND;TZID=America/Anchorage:20190826T130000
LOCATION:Creek Street Cabaret
SUMMARY:Magician
END:VEVENT
END:VCALENDAR
