BEGIN:VCALENDAR
VERSION:2.0
PRODID:-//www.ketchikanarts.org//NONSGML kigkonsult.se iCalcreator 2.30.10/
 /
CALSCALE:GREGORIAN
METHOD:PUBLISH
UID:cf18c39b-0477-4959-9aaf-102dc76d7280
X-WR-CALDESC:Big Dog Blues playing with local Blues Greats!
X-WR-RELCALID:28ce7762aba866c6eb8c8535c6c1b9db
X-WR-TIMEZONE:America/Anchorage
BEGIN:VTIMEZONE
TZID:America/Anchorage
BEGIN:STANDARD
TZNAME:AKST
DTSTART:20181104T020000
TZOFFSETFROM:-0800
TZOFFSETTO:-0900
RDATE:20191103T020000
RDATE:20201101T020000
END:STANDARD
BEGIN:DAYLIGHT
TZNAME:AKDT
DTSTART:20190310T020000
TZOFFSETFROM:-0900
TZOFFSETTO:-0800
RDATE:20200308T020000
END:DAYLIGHT
END:VTIMEZONE
BEGIN:VEVENT
UID:3462d58d-585f-44e2-b52c-0a3ba2b10c6f
DTSTAMP:20260422T125045Z
DESCRIPTION:Big Dog Blues playing with local Blues Greats!
DTSTART;TZID=America/Anchorage:20190825T180000
DTEND;TZID=America/Anchorage:20190825T200000
LOCATION:Creek Street Cabaret
SUMMARY:Big Dog Blues
END:VEVENT
END:VCALENDAR
