BEGIN:VCALENDAR
VERSION:2.0
PRODID:-//www.ketchikanarts.org//NONSGML kigkonsult.se iCalcreator 2.30.10/
 /
CALSCALE:GREGORIAN
METHOD:PUBLISH
UID:ce785927-1b39-49a4-b7c1-0c19ad87a334
X-WR-CALDESC:Free
X-WR-RELCALID:d03ba85b345fcccb11afac0c48e89124
X-WR-TIMEZONE:America/Anchorage
BEGIN:VTIMEZONE
TZID:America/Anchorage
BEGIN:STANDARD
TZNAME:AKST
DTSTART:20181104T020000
TZOFFSETFROM:-0800
TZOFFSETTO:-0900
RDATE:20191103T020000
RDATE:20201101T020000
END:STANDARD
BEGIN:DAYLIGHT
TZNAME:AKDT
DTSTART:20190310T020000
TZOFFSETFROM:-0900
TZOFFSETTO:-0800
RDATE:20200308T020000
END:DAYLIGHT
END:VTIMEZONE
BEGIN:VEVENT
UID:7e6e6b6e-010b-45bc-802d-4544bc16a814
DTSTAMP:20260422T124941Z
DESCRIPTION:Free
DTSTART;TZID=America/Anchorage:20190824T090000
DTEND;TZID=America/Anchorage:20190824T100000
LOCATION:Tatsuda's
SUMMARY:Deer Mountain Run
END:VEVENT
END:VCALENDAR
