BEGIN:VCALENDAR
VERSION:2.0
PRODID:-//www.ketchikanarts.org//NONSGML kigkonsult.se iCalcreator 2.30.10/
 /
CALSCALE:GREGORIAN
METHOD:PUBLISH
UID:73f53e87-6e4c-4163-be11-9b01a6075af5
X-WR-CALDESC:Obvious Jazz\, Rob Holston and his array of instruments will b
 e playing throughout the summer at Salmon Falls Resort. Enjoy a romantic e
 vening and a trip down memory lane with his tributes to Frank Sinatra. Eve
 ry Saturday evening.
X-WR-RELCALID:f9a35aea4b6a38d0c4974bd9b5c0088c
X-WR-TIMEZONE:America/Anchorage
BEGIN:VTIMEZONE
TZID:America/Anchorage
BEGIN:STANDARD
TZNAME:AKST
DTSTART:20181104T020000
TZOFFSETFROM:-0800
TZOFFSETTO:-0900
RDATE:20191103T020000
RDATE:20201101T020000
END:STANDARD
BEGIN:DAYLIGHT
TZNAME:AKDT
DTSTART:20190310T020000
TZOFFSETFROM:-0900
TZOFFSETTO:-0800
RDATE:20200308T020000
END:DAYLIGHT
END:VTIMEZONE
BEGIN:VEVENT
UID:c6deaa0d-f169-4fb2-aa0c-33aa5a0f269e
DTSTAMP:20260422T124940Z
DESCRIPTION:Obvious Jazz\, Rob Holston and his array of instruments will be
  playing throughout the summer at Salmon Falls Resort. Enjoy a romantic ev
 ening and a trip down memory lane with his tributes to Frank Sinatra. Ever
 y Saturday evening.
DTSTART;TZID=America/Anchorage:20190824T180000
DTEND;TZID=America/Anchorage:20190824T210000
LOCATION:Salmon Falls Resort
SUMMARY:Obvious Jazz Performs!
END:VEVENT
END:VCALENDAR
