BEGIN:VCALENDAR
VERSION:2.0
PRODID:-//www.ketchikanarts.org//NONSGML kigkonsult.se iCalcreator 2.30.10/
 /
CALSCALE:GREGORIAN
METHOD:PUBLISH
UID:0efa3a83-0f5b-440c-a2eb-5f1a087ded8b
X-WR-CALDESC:We will be painting chairs for the upcoming FCCC auction. Brin
 g a chair\, stool or another useful item with a base coat finished. to Pap
 er Pirates! Jamiee Mitchell and Cindi Byrd will assist your painting prowe
 ss as needed\, supplies provided. Please \nPark at the lot on Tongass nort
 h of the bus stop. \nChairs will be auctioned September 14th at the Kayhi 
 Commons.\ndeadline to turn finished chairs in is Sept. 1st\nPlease call 22
 5-6807 if you need a chair to paint!!!\n\ntext 907-617-0645 with questions
 \n
X-WR-RELCALID:2555c4c93ed1b7157b01bf05c8e77d63
X-WR-TIMEZONE:America/Anchorage
BEGIN:VTIMEZONE
TZID:America/Anchorage
BEGIN:STANDARD
TZNAME:AKST
DTSTART:20181104T020000
TZOFFSETFROM:-0800
TZOFFSETTO:-0900
RDATE:20191103T020000
RDATE:20201101T020000
END:STANDARD
BEGIN:DAYLIGHT
TZNAME:AKDT
DTSTART:20190310T020000
TZOFFSETFROM:-0900
TZOFFSETTO:-0800
RDATE:20200308T020000
END:DAYLIGHT
END:VTIMEZONE
BEGIN:VEVENT
UID:da87fb4c-0327-4a5b-889a-da4080aebfc0
DTSTAMP:20260422T125245Z
DESCRIPTION:We will be painting chairs for the upcoming FCCC auction. Bring
  a chair\, stool or another useful item with a base coat finished. to Pape
 r Pirates! Jamiee Mitchell and Cindi Byrd will assist your painting prowes
 s as needed\, supplies provided. Please \nPark at the lot on Tongass north
  of the bus stop. \nChairs will be auctioned September 14th at the Kayhi C
 ommons.\ndeadline to turn finished chairs in is Sept. 1st\nPlease call 225
 -6807 if you need a chair to paint!!!\n\ntext 907-617-0645 with questions
 \n
DTSTART;TZID=America/Anchorage:20190823T180000
DTEND;TZID=America/Anchorage:20190823T210000
LOCATION:Paper Pirates
SUMMARY:Paint a Chair for Charity
END:VEVENT
END:VCALENDAR
