BEGIN:VCALENDAR
VERSION:2.0
PRODID:-//www.ketchikanarts.org//NONSGML kigkonsult.se iCalcreator 2.30.10/
 /
CALSCALE:GREGORIAN
METHOD:PUBLISH
UID:8b9f87f2-55d4-4fc5-b5fb-94389854e953
X-WR-CALDESC:All genres\, all age-appropriate local short films!!!
X-WR-RELCALID:765cd5e2efadabbba56b69826fb6b2f9
X-WR-TIMEZONE:America/Anchorage
BEGIN:VTIMEZONE
TZID:America/Anchorage
BEGIN:STANDARD
TZNAME:AKST
DTSTART:20181104T020000
TZOFFSETFROM:-0800
TZOFFSETTO:-0900
RDATE:20191103T020000
RDATE:20201101T020000
END:STANDARD
BEGIN:DAYLIGHT
TZNAME:AKDT
DTSTART:20190310T020000
TZOFFSETFROM:-0900
TZOFFSETTO:-0800
RDATE:20200308T020000
END:DAYLIGHT
END:VTIMEZONE
BEGIN:VEVENT
UID:13459a5a-4db3-4043-841e-31b29f847c80
DTSTAMP:20260422T125729Z
DESCRIPTION:All genres\, all age-appropriate local short films!!!
DTSTART;TZID=America/Anchorage:20190823T170000
DTEND;TZID=America/Anchorage:20190823T180000
LOCATION:Southeast Discovery Center
SUMMARY:Ketchikan Film Festival
END:VEVENT
END:VCALENDAR
