BEGIN:VCALENDAR
VERSION:2.0
PRODID:-//www.ketchikanarts.org//NONSGML kigkonsult.se iCalcreator 2.30.10/
 /
CALSCALE:GREGORIAN
METHOD:PUBLISH
UID:0976c0a8-9d7b-4412-8eb7-6b2de5568ddc
X-WR-CALDESC:Come see Jackie Venson\,  Austin's Guitarists of the Year\, Fr
 ee Concert!!!! BYOB Don't miss this amazing opportunity!!!!
X-WR-RELCALID:b336a71966bcdf4800afe7e5f58ad765
X-WR-TIMEZONE:America/Anchorage
BEGIN:VTIMEZONE
TZID:America/Anchorage
BEGIN:STANDARD
TZNAME:AKST
DTSTART:20181104T020000
TZOFFSETFROM:-0800
TZOFFSETTO:-0900
RDATE:20191103T020000
RDATE:20201101T020000
END:STANDARD
BEGIN:DAYLIGHT
TZNAME:AKDT
DTSTART:20190310T020000
TZOFFSETFROM:-0900
TZOFFSETTO:-0800
RDATE:20200308T020000
END:DAYLIGHT
END:VTIMEZONE
BEGIN:VEVENT
UID:dc3aa0e9-a9d9-4429-a336-c6fc2e989d79
DTSTAMP:20260422T125159Z
DESCRIPTION:Come see Jackie Venson\,  Austin's Guitarists of the Year\, Fre
 e Concert!!!! BYOB Don't miss this amazing opportunity!!!!
DTSTART;TZID=America/Anchorage:20190821T190000
DTEND;TZID=America/Anchorage:20190821T210000
LOCATION:North Tongass Community Club
SUMMARY:Joy to the World Tour
END:VEVENT
END:VCALENDAR
