BEGIN:VCALENDAR
VERSION:2.0
PRODID:-//www.ketchikanarts.org//NONSGML kigkonsult.se iCalcreator 2.30.10/
 /
CALSCALE:GREGORIAN
METHOD:PUBLISH
UID:50907118-67ad-4843-b082-069c42d7734d
X-WR-CALDESC:Everybody is welcome ***Tonight Only*** Special SHIM SHAM sess
 ion with guest instructor Richelle!! \nChannel Frankie Manning and learn t
 his fun and jazzy solo dance. Similar to Lindy Hop.\nUse your pass or pay 
 $7 at the door\n6:15 - 7:15 Main Street Gallery
X-WR-RELCALID:383acb3ec9a5ef45bd71b84941532167
X-WR-TIMEZONE:America/Anchorage
BEGIN:VTIMEZONE
TZID:America/Anchorage
BEGIN:STANDARD
TZNAME:AKST
DTSTART:20181104T020000
TZOFFSETFROM:-0800
TZOFFSETTO:-0900
RDATE:20191103T020000
RDATE:20201101T020000
END:STANDARD
BEGIN:DAYLIGHT
TZNAME:AKDT
DTSTART:20190310T020000
TZOFFSETFROM:-0900
TZOFFSETTO:-0800
RDATE:20200308T020000
END:DAYLIGHT
END:VTIMEZONE
BEGIN:VEVENT
UID:6e5febd6-91d5-4bee-9c7b-fbd0b6315137
DTSTAMP:20260422T125338Z
DESCRIPTION:Everybody is welcome ***Tonight Only*** Special SHIM SHAM sessi
 on with guest instructor Richelle!! \nChannel Frankie Manning and learn th
 is fun and jazzy solo dance. Similar to Lindy Hop.\nUse your pass or pay $
 7 at the door\n6:15 - 7:15 Main Street Gallery
DTSTART;TZID=America/Anchorage:20190819T180000
DTEND;TZID=America/Anchorage:20190819T193000
LOCATION:Main Street Gallery
SUMMARY:BOOMbal Dancehall
END:VEVENT
END:VCALENDAR
