BEGIN:VCALENDAR
VERSION:2.0
PRODID:-//www.ketchikanarts.org//NONSGML kigkonsult.se iCalcreator 2.30.10/
 /
CALSCALE:GREGORIAN
METHOD:PUBLISH
UID:d77df5d0-ff10-4433-bc5f-8919b0ba19ee
X-WR-CALDESC:FREE concert!!! Austin Hays Trio will release their new collec
 tion of recorded work. \nAustin Hays - drums\nKim Henrickson - keyboards\n
 Chazz Gist - bass\nCDs will be available for purchase for $10. And if you 
 don't want a CD\, that's okay\, you can just enjoy the music. Hope y'all c
 an make it!\n\n21+ (unless accompanied by a legal parent/guardian)
X-WR-RELCALID:2f753590353cc7fc7b1108751d442144
X-WR-TIMEZONE:America/Anchorage
BEGIN:VTIMEZONE
TZID:America/Anchorage
BEGIN:STANDARD
TZNAME:AKST
DTSTART:20181104T020000
TZOFFSETFROM:-0800
TZOFFSETTO:-0900
RDATE:20191103T020000
RDATE:20201101T020000
END:STANDARD
BEGIN:DAYLIGHT
TZNAME:AKDT
DTSTART:20190310T020000
TZOFFSETFROM:-0900
TZOFFSETTO:-0800
RDATE:20200308T020000
END:DAYLIGHT
END:VTIMEZONE
BEGIN:VEVENT
UID:82aa3fd5-1589-42ab-9a07-f5e4d0b7d011
DTSTAMP:20260422T125025Z
DESCRIPTION:FREE concert!!! Austin Hays Trio will release their new collect
 ion of recorded work. \nAustin Hays - drums\nKim Henrickson - keyboards\nC
 hazz Gist - bass\nCDs will be available for purchase for $10. And if you d
 on't want a CD\, that's okay\, you can just enjoy the music. Hope y'all ca
 n make it!\n\n21+ (unless accompanied by a legal parent/guardian)
DTSTART;TZID=America/Anchorage:20190818T183000
DTEND;TZID=America/Anchorage:20190818T210000
LOCATION:Creek Street Cabaret
SUMMARY:Austin Hays Trio - CD Release
END:VEVENT
END:VCALENDAR
