BEGIN:VCALENDAR
VERSION:2.0
PRODID:-//www.ketchikanarts.org//NONSGML kigkonsult.se iCalcreator 2.30.10/
 /
CALSCALE:GREGORIAN
METHOD:PUBLISH
UID:0ca4c616-cb43-455d-b179-72925a0685a9
X-WR-CALDESC:Kelly Morrison\nIntroduction to Alcohol Inks. This class is a 
 great opportunity to explore the versatility of alcohol inks. The instruct
 or will demonstrate how to create backgrounds\, abstract patterns and more
 . You will have fun exploring color combinations and techniques.\n$35. All
  supplies are provided.  Preregistration is helpful! Classes Fill up! Rese
 rve your seat today! Call 225-4951.\n5:30 - 8:00 pm. Vibrance - A Creative
  Space.
X-WR-RELCALID:4804274cfd704b17913c2221e6c2e109
X-WR-TIMEZONE:America/Anchorage
BEGIN:VTIMEZONE
TZID:America/Anchorage
BEGIN:STANDARD
TZNAME:AKST
DTSTART:20181104T020000
TZOFFSETFROM:-0800
TZOFFSETTO:-0900
RDATE:20191103T020000
RDATE:20201101T020000
END:STANDARD
BEGIN:DAYLIGHT
TZNAME:AKDT
DTSTART:20190310T020000
TZOFFSETFROM:-0900
TZOFFSETTO:-0800
RDATE:20200308T020000
END:DAYLIGHT
END:VTIMEZONE
BEGIN:VEVENT
UID:4c736376-fce2-4e5c-825f-25d66f55a38c
DTSTAMP:20260422T124907Z
DESCRIPTION:Kelly Morrison\nIntroduction to Alcohol Inks. This class is a g
 reat opportunity to explore the versatility of alcohol inks. The instructo
 r will demonstrate how to create backgrounds\, abstract patterns and more.
  You will have fun exploring color combinations and techniques.\n$35. All 
 supplies are provided.  Preregistration is helpful! Classes Fill up! Reser
 ve your seat today! Call 225-4951.\n5:30 - 8:00 pm. Vibrance - A Creative 
 Space.
DTSTART;TZID=America/Anchorage:20190817T173000
DTEND;TZID=America/Anchorage:20190817T200000
LOCATION:Vibrance A Creative Space
SUMMARY:Introduction to Alcohol Inks
END:VEVENT
END:VCALENDAR
