BEGIN:VCALENDAR
VERSION:2.0
PRODID:-//www.ketchikanarts.org//NONSGML kigkonsult.se iCalcreator 2.30.10/
 /
CALSCALE:GREGORIAN
METHOD:PUBLISH
UID:26b1b8d5-52df-4e64-aa3e-65e98b2e5581
X-WR-CALDESC:Sam Pitcher Memorial Scholarship Fund Raiser Concert with 16 m
 ember All-Star Big Band and Special Guest Stephanie Patton!\n\n$10 cover. 
 Over 70 scholarships awarded.\n\nNo host bar.\nEnjoy Great Cocktails
X-WR-RELCALID:0150b3b87286d240aca25c26b765f844
X-WR-TIMEZONE:America/Anchorage
BEGIN:VTIMEZONE
TZID:America/Anchorage
BEGIN:STANDARD
TZNAME:AKST
DTSTART:20181104T020000
TZOFFSETFROM:-0800
TZOFFSETTO:-0900
RDATE:20191103T020000
RDATE:20201101T020000
END:STANDARD
BEGIN:DAYLIGHT
TZNAME:AKDT
DTSTART:20190310T020000
TZOFFSETFROM:-0900
TZOFFSETTO:-0800
RDATE:20200308T020000
END:DAYLIGHT
END:VTIMEZONE
BEGIN:VEVENT
UID:b34b4a0b-2987-438c-8e37-6937d31d1a2e
DTSTAMP:20260422T124941Z
DESCRIPTION:Sam Pitcher Memorial Scholarship Fund Raiser Concert with 16 me
 mber All-Star Big Band and Special Guest Stephanie Patton!\n\n$10 cover. O
 ver 70 scholarships awarded.\n\nNo host bar.\nEnjoy Great Cocktails
DTSTART;TZID=America/Anchorage:20190817T193000
DTEND;TZID=America/Anchorage:20190817T213000
LOCATION:Creek Street Cabaret
SUMMARY:Frank Sinatra Tribute
END:VEVENT
END:VCALENDAR
