BEGIN:VCALENDAR
VERSION:2.0
PRODID:-//www.ketchikanarts.org//NONSGML kigkonsult.se iCalcreator 2.30.10/
 /
CALSCALE:GREGORIAN
METHOD:PUBLISH
UID:418c67ca-c1bf-43d6-84a2-3b336a26fd4f
X-WR-CALDESC:Sam Pitcher Memorial Scholarship Fund Raiser Concert with 16 m
 ember All-Star Big Band and Special Guest Stephanie Patton!\n\n$10 cover. 
 Over 70 scholarships awarded.\n\nNo host bar.\nEnjoy Great Cocktails
X-WR-RELCALID:d13e540c04df3379989b2f0a768a3ef8
X-WR-TIMEZONE:America/Anchorage
BEGIN:VTIMEZONE
TZID:America/Anchorage
BEGIN:STANDARD
TZNAME:AKST
DTSTART:20181104T020000
TZOFFSETFROM:-0800
TZOFFSETTO:-0900
RDATE:20191103T020000
RDATE:20201101T020000
END:STANDARD
BEGIN:DAYLIGHT
TZNAME:AKDT
DTSTART:20190310T020000
TZOFFSETFROM:-0900
TZOFFSETTO:-0800
RDATE:20200308T020000
END:DAYLIGHT
END:VTIMEZONE
BEGIN:VEVENT
UID:724dfcb1-6169-4198-9e8d-20022c3e0e95
DTSTAMP:20260422T124906Z
DESCRIPTION:Sam Pitcher Memorial Scholarship Fund Raiser Concert with 16 me
 mber All-Star Big Band and Special Guest Stephanie Patton!\n\n$10 cover. O
 ver 70 scholarships awarded.\n\nNo host bar.\nEnjoy Great Cocktails
DTSTART;TZID=America/Anchorage:20190816T193000
DTEND;TZID=America/Anchorage:20190816T213000
LOCATION:Creek Street Cabaret
SUMMARY:Frank Sinatra Tribute
END:VEVENT
END:VCALENDAR
