BEGIN:VCALENDAR
VERSION:2.0
PRODID:-//www.ketchikanarts.org//NONSGML kigkonsult.se iCalcreator 2.30.10/
 /
CALSCALE:GREGORIAN
METHOD:PUBLISH
UID:691bc116-43f3-4e6d-81b7-d80df177d89d
X-WR-CALDESC:Fun Jigs Polkas and Split Sets!!!!
X-WR-RELCALID:0c1e27450f32ba0a1427ae3121c14c43
X-WR-TIMEZONE:America/Anchorage
BEGIN:VTIMEZONE
TZID:America/Anchorage
BEGIN:STANDARD
TZNAME:AKST
DTSTART:20181104T020000
TZOFFSETFROM:-0800
TZOFFSETTO:-0900
RDATE:20191103T020000
RDATE:20201101T020000
END:STANDARD
BEGIN:DAYLIGHT
TZNAME:AKDT
DTSTART:20190310T020000
TZOFFSETFROM:-0900
TZOFFSETTO:-0800
RDATE:20200308T020000
END:DAYLIGHT
END:VTIMEZONE
BEGIN:VEVENT
UID:94b5eb9e-d8ff-410c-9b18-cee6d27eb84e
DTSTAMP:20260422T124939Z
DESCRIPTION:Fun Jigs Polkas and Split Sets!!!!
DTSTART;TZID=America/Anchorage:20190815T120000
DTEND;TZID=America/Anchorage:20190815T130000
LOCATION:Berth 2 or Berth 3
SUMMARY:Paddy's Leather Breeches
END:VEVENT
END:VCALENDAR
