BEGIN:VCALENDAR
VERSION:2.0
PRODID:-//www.ketchikanarts.org//NONSGML kigkonsult.se iCalcreator 2.30.10/
 /
CALSCALE:GREGORIAN
METHOD:PUBLISH
UID:06eec7ed-3bb1-4744-b83b-2abdf1c2b572
X-WR-CALDESC:The City of Ketchikan Presents Music on the Dock!\n2019 Summer
  concert series\nRain or shine bring a lunch and enjoy a noontime concert!
 !\nSunny days Berth 2\,\nrainy days Berth 3 shelter.
X-WR-RELCALID:4b8a8639f67283cc47f1b3f6e4ce4d6c
X-WR-TIMEZONE:America/Anchorage
BEGIN:VTIMEZONE
TZID:America/Anchorage
BEGIN:STANDARD
TZNAME:AKST
DTSTART:20181104T020000
TZOFFSETFROM:-0800
TZOFFSETTO:-0900
RDATE:20191103T020000
RDATE:20201101T020000
END:STANDARD
BEGIN:DAYLIGHT
TZNAME:AKDT
DTSTART:20190310T020000
TZOFFSETFROM:-0900
TZOFFSETTO:-0800
RDATE:20200308T020000
END:DAYLIGHT
END:VTIMEZONE
BEGIN:VEVENT
UID:bb862c4a-03eb-4c88-b37f-201f80c0fb67
DTSTAMP:20260422T125207Z
DESCRIPTION:The City of Ketchikan Presents Music on the Dock!\n2019 Summer 
 concert series\nRain or shine bring a lunch and enjoy a noontime concert!!
 \nSunny days Berth 2\,\nrainy days Berth 3 shelter.
DTSTART;TZID=America/Anchorage:20190814T120000
DTEND;TZID=America/Anchorage:20190814T130000
LOCATION:Berth 2 or Berth 3
SUMMARY:Diane Slagle
END:VEVENT
END:VCALENDAR
