BEGIN:VCALENDAR
VERSION:2.0
PRODID:-//www.ketchikanarts.org//NONSGML kigkonsult.se iCalcreator 2.30.10/
 /
CALSCALE:GREGORIAN
METHOD:PUBLISH
UID:2f20d6c4-f7e5-469b-b3eb-b19844512799
X-WR-CALDESC:Hosted by Jack Finnegan\, the Summer Slam is a continuation of
  Story Slam which enables our summer residents a chance to participate in 
 our fun storytelling venture. Come to the Creek Street Cabaret and share y
 our 'Beautiful Mistake' story\, or just relax in the Creek Street Cabaret'
 s wonderful atmosphere\, and enjoy listening to others tell their tales! 
 \n\nThe theme for the July Slam is Wild Card there is no theme!\nThe theme
  for the August Slam is 'That's no Way to Say Goodbye' \nThe theme is a su
 ggestion\, not a requirement.  \n\n$3 at the Door\, Doors open at 7:00 pm\
 , stories start at 7:30! See the poster for the full list of Summer SLAM t
 hemes.
X-WR-RELCALID:1d3021a881611f9013ee898e0e8d6e5e
X-WR-TIMEZONE:America/Anchorage
BEGIN:VTIMEZONE
TZID:America/Anchorage
BEGIN:STANDARD
TZNAME:AKST
DTSTART:20181104T020000
TZOFFSETFROM:-0800
TZOFFSETTO:-0900
RDATE:20191103T020000
RDATE:20201101T020000
END:STANDARD
BEGIN:DAYLIGHT
TZNAME:AKDT
DTSTART:20190310T020000
TZOFFSETFROM:-0900
TZOFFSETTO:-0800
RDATE:20200308T020000
END:DAYLIGHT
END:VTIMEZONE
BEGIN:VEVENT
UID:97ec2b99-d341-4e6c-83c3-e2b16e6f90bd
DTSTAMP:20260422T125219Z
DESCRIPTION:Hosted by Jack Finnegan\, the Summer Slam is a continuation of 
 Story Slam which enables our summer residents a chance to participate in o
 ur fun storytelling venture. Come to the Creek Street Cabaret and share yo
 ur 'Beautiful Mistake' story\, or just relax in the Creek Street Cabaret's
  wonderful atmosphere\, and enjoy listening to others tell their tales! \n
 \nThe theme for the July Slam is Wild Card there is no theme!\nThe theme f
 or the August Slam is 'That's no Way to Say Goodbye' \nThe theme is a sugg
 estion\, not a requirement.  \n\n$3 at the Door\, Doors open at 7:00 pm\, 
 stories start at 7:30! See the poster for the full list of Summer SLAM the
 mes.
DTSTART;TZID=America/Anchorage:20190813T190000
DTEND;TZID=America/Anchorage:20190813T210000
LOCATION:Creek Street Cabaret
SUMMARY:Summer SLAM
END:VEVENT
END:VCALENDAR
