BEGIN:VCALENDAR
VERSION:2.0
PRODID:-//www.ketchikanarts.org//NONSGML kigkonsult.se iCalcreator 2.30.10/
 /
CALSCALE:GREGORIAN
METHOD:PUBLISH
UID:0e4eecaa-586c-4a5e-8d38-2d71baefd03c
X-WR-CALDESC:A wonderful Magician entertains Ketchikan Straight off a Cruis
 e Ship\, Every Monday through September! Come enjoy a magical treat over y
 our lunch hour! Free
X-WR-RELCALID:3cfb3e1d312d9693c10c8f88d2aff867
X-WR-TIMEZONE:America/Anchorage
BEGIN:VTIMEZONE
TZID:America/Anchorage
BEGIN:STANDARD
TZNAME:AKST
DTSTART:20181104T020000
TZOFFSETFROM:-0800
TZOFFSETTO:-0900
RDATE:20191103T020000
RDATE:20201101T020000
END:STANDARD
BEGIN:DAYLIGHT
TZNAME:AKDT
DTSTART:20190310T020000
TZOFFSETFROM:-0900
TZOFFSETTO:-0800
RDATE:20200308T020000
END:DAYLIGHT
END:VTIMEZONE
BEGIN:VEVENT
UID:f86f5be1-be3a-4218-9858-4bd41833a682
DTSTAMP:20260422T125208Z
DESCRIPTION:A wonderful Magician entertains Ketchikan Straight off a Cruise
  Ship\, Every Monday through September! Come enjoy a magical treat over yo
 ur lunch hour! Free
DTSTART;TZID=America/Anchorage:20190812T120000
DTEND;TZID=America/Anchorage:20190812T130000
LOCATION:Creek Street Cabaret
SUMMARY:Magician
END:VEVENT
END:VCALENDAR
