BEGIN:VCALENDAR
VERSION:2.0
PRODID:-//www.ketchikanarts.org//NONSGML kigkonsult.se iCalcreator 2.30.10/
 /
CALSCALE:GREGORIAN
METHOD:PUBLISH
UID:a4e5e630-24e1-46d8-bdde-e72cbcc76aea
X-WR-CALDESC:Kallet and Larsen in Concert Sunday\, August 11\, 6:00pm at th
 e Main Street Gallery. Cindy Kallet and Grey Larsen are exquisite musician
 s and gentle souls\, both of which make for a wonderful evening of music! 
 Tickets are $20 each and are available at the door. Private lessons are al
 so available on Monday\, August 12 for flute\, tin whistle\, concertina\, 
 fiddle\, harmonium\, guitar\, piano\, and song writing. Call Bill Rotecki 
 for more info at 225-5078.
X-WR-RELCALID:2fcc87171959f92c8574bc81b9eb5542
X-WR-TIMEZONE:America/Anchorage
BEGIN:VTIMEZONE
TZID:America/Anchorage
BEGIN:STANDARD
TZNAME:AKST
DTSTART:20181104T020000
TZOFFSETFROM:-0800
TZOFFSETTO:-0900
RDATE:20191103T020000
RDATE:20201101T020000
END:STANDARD
BEGIN:DAYLIGHT
TZNAME:AKDT
DTSTART:20190310T020000
TZOFFSETFROM:-0900
TZOFFSETTO:-0800
RDATE:20200308T020000
END:DAYLIGHT
END:VTIMEZONE
BEGIN:VEVENT
UID:2e04cf62-3457-4451-9d9a-ff6bd91219d9
DTSTAMP:20260422T125527Z
DESCRIPTION:Kallet and Larsen in Concert Sunday\, August 11\, 6:00pm at the
  Main Street Gallery. Cindy Kallet and Grey Larsen are exquisite musicians
  and gentle souls\, both of which make for a wonderful evening of music! T
 ickets are $20 each and are available at the door. Private lessons are als
 o available on Monday\, August 12 for flute\, tin whistle\, concertina\, f
 iddle\, harmonium\, guitar\, piano\, and song writing. Call Bill Rotecki f
 or more info at 225-5078.
DTSTART;TZID=America/Anchorage:20190811T180000
DTEND;TZID=America/Anchorage:20190811T200000
LOCATION:Main Street Gallery
SUMMARY:Cindy Kallet & Grey Larsen in Concert
END:VEVENT
END:VCALENDAR
