BEGIN:VCALENDAR
VERSION:2.0
PRODID:-//www.ketchikanarts.org//NONSGML kigkonsult.se iCalcreator 2.30.10/
 /
CALSCALE:GREGORIAN
METHOD:PUBLISH
UID:a8f64e66-eea0-4c62-9f4f-0432f304d031
X-WR-CALDESC:ArtsCool is First City Player's summer youth art camp. It culm
 inates in the performance of 'Once Upon  a Mattress'. Tickets Adult $15\, 
 Student/Senior/Military $10\, Family pack $40
X-WR-RELCALID:e72c2f2c50e09fab3c6fe2882c514e5a
X-WR-TIMEZONE:America/Anchorage
BEGIN:VTIMEZONE
TZID:America/Anchorage
BEGIN:STANDARD
TZNAME:AKST
DTSTART:20181104T020000
TZOFFSETFROM:-0800
TZOFFSETTO:-0900
RDATE:20191103T020000
RDATE:20201101T020000
END:STANDARD
BEGIN:DAYLIGHT
TZNAME:AKDT
DTSTART:20190310T020000
TZOFFSETFROM:-0900
TZOFFSETTO:-0800
RDATE:20200308T020000
END:DAYLIGHT
END:VTIMEZONE
BEGIN:VEVENT
UID:578d6864-2636-40f5-b79a-ca0f9fda4ca2
DTSTAMP:20260422T125723Z
DESCRIPTION:ArtsCool is First City Player's summer youth art camp. It culmi
 nates in the performance of 'Once Upon  a Mattress'. Tickets Adult $15\, S
 tudent/Senior/Military $10\, Family pack $40
DTSTART;TZID=America/Anchorage:20190810T143000
DTEND;TZID=America/Anchorage:20190810T160000
LOCATION:Kayhi Auditorium
SUMMARY:First City Players - ArtsCool Presents 'Once Upon A Mattress'
END:VEVENT
END:VCALENDAR
