BEGIN:VCALENDAR
VERSION:2.0
PRODID:-//www.ketchikanarts.org//NONSGML kigkonsult.se iCalcreator 2.30.10/
 /
CALSCALE:GREGORIAN
METHOD:PUBLISH
UID:3b6e2100-c2f3-4c4a-a4c2-b8c81f9b25fb
X-WR-CALDESC:$5 at the Door. Dance to live calling and music from the Free 
 Radicals! Don't need to know how all dances are taught! Grab a partner and
  let's do-si-do!
X-WR-RELCALID:f010e4dda77765e092ca77e03f201fce
X-WR-TIMEZONE:America/Anchorage
BEGIN:VTIMEZONE
TZID:America/Anchorage
BEGIN:STANDARD
TZNAME:AKST
DTSTART:20181104T020000
TZOFFSETFROM:-0800
TZOFFSETTO:-0900
RDATE:20191103T020000
RDATE:20201101T020000
END:STANDARD
BEGIN:DAYLIGHT
TZNAME:AKDT
DTSTART:20190310T020000
TZOFFSETFROM:-0900
TZOFFSETTO:-0800
RDATE:20200308T020000
END:DAYLIGHT
END:VTIMEZONE
BEGIN:VEVENT
UID:39c4403a-a222-47a7-a13d-f4972ea85249
DTSTAMP:20260422T124906Z
DESCRIPTION:$5 at the Door. Dance to live calling and music from the Free R
 adicals! Don't need to know how all dances are taught! Grab a partner and 
 let's do-si-do!
DTSTART;TZID=America/Anchorage:20190809T190000
DTEND;TZID=America/Anchorage:20190809T210000
LOCATION:Creek Street Cabaret
SUMMARY:Alaska Square Dance
END:VEVENT
END:VCALENDAR
