BEGIN:VCALENDAR
VERSION:2.0
PRODID:-//www.ketchikanarts.org//NONSGML kigkonsult.se iCalcreator 2.30.10/
 /
CALSCALE:GREGORIAN
METHOD:PUBLISH
UID:4c020826-d5fc-4da0-a1cd-59d819c3fef5
X-WR-CALDESC:Children 12 and under\, bring your slugs and get them weighed 
 for the great Blueberry Arts Festival Slug Race. A cute Sluggo from ketch-
 i-kreatures! is the prize for the biggest slug!
X-WR-RELCALID:52b9beed7b87adb7f5a988e915790b55
X-WR-TIMEZONE:America/Anchorage
BEGIN:VTIMEZONE
TZID:America/Anchorage
BEGIN:STANDARD
TZNAME:AKST
DTSTART:20181104T020000
TZOFFSETFROM:-0800
TZOFFSETTO:-0900
RDATE:20191103T020000
RDATE:20201101T020000
END:STANDARD
BEGIN:DAYLIGHT
TZNAME:AKDT
DTSTART:20190310T020000
TZOFFSETFROM:-0900
TZOFFSETTO:-0800
RDATE:20200308T020000
END:DAYLIGHT
END:VTIMEZONE
BEGIN:VEVENT
UID:4c8ba89d-5b37-4c79-b438-0b1ca1618710
DTSTAMP:20260422T125205Z
DESCRIPTION:Children 12 and under\, bring your slugs and get them weighed f
 or the great Blueberry Arts Festival Slug Race. A cute Sluggo from ketch-i
 -kreatures! is the prize for the biggest slug!
DTSTART;TZID=America/Anchorage:20190803T093000
DTEND;TZID=America/Anchorage:20190803T100000
LOCATION:The Church Parking Lot
SUMMARY:The Slug Weigh In
END:VEVENT
END:VCALENDAR
