BEGIN:VCALENDAR
VERSION:2.0
PRODID:-//www.ketchikanarts.org//NONSGML kigkonsult.se iCalcreator 2.30.10/
 /
CALSCALE:GREGORIAN
METHOD:PUBLISH
UID:f05d51bf-3444-4080-8467-ac0ec84472ee
X-WR-CALDESC:Put your slug to the test! Adorable prize to the Fastest Slug!
X-WR-RELCALID:0fa1309afd7ac12582c2807f1fe2eef2
X-WR-TIMEZONE:America/Anchorage
BEGIN:VTIMEZONE
TZID:America/Anchorage
BEGIN:STANDARD
TZNAME:AKST
DTSTART:20181104T020000
TZOFFSETFROM:-0800
TZOFFSETTO:-0900
RDATE:20191103T020000
RDATE:20201101T020000
END:STANDARD
BEGIN:DAYLIGHT
TZNAME:AKDT
DTSTART:20190310T020000
TZOFFSETFROM:-0900
TZOFFSETTO:-0800
RDATE:20200308T020000
END:DAYLIGHT
END:VTIMEZONE
BEGIN:VEVENT
UID:b81a6ce9-ea01-4f4b-a371-ab291170e481
DTSTAMP:20260422T125047Z
DESCRIPTION:Put your slug to the test! Adorable prize to the Fastest Slug!
DTSTART;TZID=America/Anchorage:20190803T103000
DTEND;TZID=America/Anchorage:20190803T113000
LOCATION:First United Methodist Church Parking Lot
SUMMARY:The Slug Race
END:VEVENT
END:VCALENDAR
