BEGIN:VCALENDAR
VERSION:2.0
PRODID:-//www.ketchikanarts.org//NONSGML kigkonsult.se iCalcreator 2.30.10/
 /
CALSCALE:GREGORIAN
METHOD:PUBLISH
UID:9f4be0de-bcc8-479c-bd49-c839888cd926
X-WR-CALDESC:Go support our Youngest Rock band the Compass Roses
X-WR-RELCALID:3102321aeac996d8ad823a322d6cf062
X-WR-TIMEZONE:America/Anchorage
BEGIN:VTIMEZONE
TZID:America/Anchorage
BEGIN:STANDARD
TZNAME:AKST
DTSTART:20181104T020000
TZOFFSETFROM:-0800
TZOFFSETTO:-0900
RDATE:20191103T020000
RDATE:20201101T020000
END:STANDARD
BEGIN:DAYLIGHT
TZNAME:AKDT
DTSTART:20190310T020000
TZOFFSETFROM:-0900
TZOFFSETTO:-0800
RDATE:20200308T020000
END:DAYLIGHT
END:VTIMEZONE
BEGIN:VEVENT
UID:3a05048b-e1d8-4cea-a12e-0ffd5812e6ef
DTSTAMP:20260422T124939Z
DESCRIPTION:Go support our Youngest Rock band the Compass Roses
DTSTART;TZID=America/Anchorage:20190803T183000
DTEND;TZID=America/Anchorage:20190803T200000
LOCATION:Creek Street Cabaret
SUMMARY:The Compass Roses
END:VEVENT
END:VCALENDAR
