BEGIN:VCALENDAR
VERSION:2.0
PRODID:-//www.ketchikanarts.org//NONSGML kigkonsult.se iCalcreator 2.30.10/
 /
CALSCALE:GREGORIAN
METHOD:PUBLISH
UID:c589af0e-3637-4dcf-a35e-25d402e2576c
X-WR-CALDESC:Tatsuda's IGA makes these amazing Blueberry Pies! How quickly 
 can you eat the pie? Go up against competitors of your own age bracket and
  see how you fare!
X-WR-RELCALID:c0d2bed6a5bb910c033ae5e82b1e7eab
X-WR-TIMEZONE:America/Anchorage
BEGIN:VTIMEZONE
TZID:America/Anchorage
BEGIN:STANDARD
TZNAME:AKST
DTSTART:20181104T020000
TZOFFSETFROM:-0800
TZOFFSETTO:-0900
RDATE:20191103T020000
RDATE:20201101T020000
END:STANDARD
BEGIN:DAYLIGHT
TZNAME:AKDT
DTSTART:20190310T020000
TZOFFSETFROM:-0900
TZOFFSETTO:-0800
RDATE:20200308T020000
END:DAYLIGHT
END:VTIMEZONE
BEGIN:VEVENT
UID:40a80efc-715e-433e-b681-66e1600db59d
DTSTAMP:20260422T125018Z
DESCRIPTION:Tatsuda's IGA makes these amazing Blueberry Pies! How quickly c
 an you eat the pie? Go up against competitors of your own age bracket and 
 see how you fare!
DTSTART;TZID=America/Anchorage:20190803T113000
DTEND;TZID=America/Anchorage:20190803T120000
LOCATION:First United Methodist Church
SUMMARY:Pie-eating Contest
END:VEVENT
END:VCALENDAR
