BEGIN:VCALENDAR
VERSION:2.0
PRODID:-//www.ketchikanarts.org//NONSGML kigkonsult.se iCalcreator 2.30.10/
 /
CALSCALE:GREGORIAN
METHOD:PUBLISH
UID:6a60f94c-f515-4d09-81cf-069126234735
X-WR-CALDESC:Blueberry Fun Run Details: We are trying to have everyone regi
 ster on-line 1 miles starts at 9:00 am\, 5k walk/run and 10k run starts at
  9:30 am. Starting line is at the police station corner of Grant and Main.
X-WR-RELCALID:ad4267e5958f382d7eb94fdb3df54e04
X-WR-TIMEZONE:America/Anchorage
BEGIN:VTIMEZONE
TZID:America/Anchorage
BEGIN:STANDARD
TZNAME:AKST
DTSTART:20181104T020000
TZOFFSETFROM:-0800
TZOFFSETTO:-0900
RDATE:20191103T020000
RDATE:20201101T020000
END:STANDARD
BEGIN:DAYLIGHT
TZNAME:AKDT
DTSTART:20190310T020000
TZOFFSETFROM:-0900
TZOFFSETTO:-0800
RDATE:20200308T020000
END:DAYLIGHT
END:VTIMEZONE
BEGIN:VEVENT
UID:b54b55bc-0778-4043-b024-6a9e2c1dfff3
DTSTAMP:20260422T124938Z
DESCRIPTION:Blueberry Fun Run Details: We are trying to have everyone regis
 ter on-line 1 miles starts at 9:00 am\, 5k walk/run and 10k run starts at 
 9:30 am. Starting line is at the police station corner of Grant and Main.
DTSTART;TZID=America/Anchorage:20190803T090000
DTEND;TZID=America/Anchorage:20190803T110000
LOCATION:361 Main Street
SUMMARY:Blueberry Fun Run
END:VEVENT
END:VCALENDAR
