BEGIN:VCALENDAR
VERSION:2.0
PRODID:-//www.ketchikanarts.org//NONSGML kigkonsult.se iCalcreator 2.30.10/
 /
CALSCALE:GREGORIAN
METHOD:PUBLISH
UID:c03af9c0-b00f-4c1c-911e-22e4d3d72d86
X-WR-CALDESC:This annual open-call exhibit features new works from the whol
 e community working in any medium.
X-WR-RELCALID:ef391a91e819aa9884708a2dede174b8
X-WR-TIMEZONE:America/Anchorage
BEGIN:VTIMEZONE
TZID:America/Anchorage
BEGIN:STANDARD
TZNAME:AKST
DTSTART:20181104T020000
TZOFFSETFROM:-0800
TZOFFSETTO:-0900
RDATE:20191103T020000
RDATE:20201101T020000
END:STANDARD
BEGIN:DAYLIGHT
TZNAME:AKDT
DTSTART:20190310T020000
TZOFFSETFROM:-0900
TZOFFSETTO:-0800
RDATE:20200308T020000
END:DAYLIGHT
END:VTIMEZONE
BEGIN:VEVENT
UID:78460fbd-5bf4-4b06-b220-cdbbbb41fd28
DTSTAMP:20260422T125753Z
DESCRIPTION:This annual open-call exhibit features new works from the whole
  community working in any medium.
DTSTART;TZID=America/Anchorage:20190803T100000
DTEND;TZID=America/Anchorage:20190803T170000
LOCATION:Main Street Gallery
SUMMARY:'Blueberry Arts Festival Art Exhibit' Main Street Gallery Exhibit
END:VEVENT
END:VCALENDAR
