BEGIN:VCALENDAR
VERSION:2.0
PRODID:-//www.ketchikanarts.org//NONSGML kigkonsult.se iCalcreator 2.30.10/
 /
CALSCALE:GREGORIAN
METHOD:PUBLISH
UID:1e1cc43c-2989-4767-836a-36af7eec1673
X-WR-CALDESC:Join us for the Opening Reception of the 'Blueberry Arts Festi
 val Art Exhibit'. This annual open-call exhibit features new works from th
 e whole community working in any medium.  Main Street Gallery openings are
  always the first Friday of the month\, and are free and open to the publi
 c.
X-WR-RELCALID:53c0cc3dec609e644b1172ec177e433d
X-WR-TIMEZONE:America/Anchorage
BEGIN:VTIMEZONE
TZID:America/Anchorage
BEGIN:STANDARD
TZNAME:AKST
DTSTART:20181104T020000
TZOFFSETFROM:-0800
TZOFFSETTO:-0900
RDATE:20191103T020000
RDATE:20201101T020000
END:STANDARD
BEGIN:DAYLIGHT
TZNAME:AKDT
DTSTART:20190310T020000
TZOFFSETFROM:-0900
TZOFFSETTO:-0800
RDATE:20200308T020000
END:DAYLIGHT
END:VTIMEZONE
BEGIN:VEVENT
UID:3f09eb3b-75c5-4eaf-a78d-90b348297596
DTSTAMP:20260422T125729Z
DESCRIPTION:Join us for the Opening Reception of the 'Blueberry Arts Festiv
 al Art Exhibit'. This annual open-call exhibit features new works from the
  whole community working in any medium.  Main Street Gallery openings are 
 always the first Friday of the month\, and are free and open to the public
 .
DTSTART;TZID=America/Anchorage:20190802T170000
DTEND;TZID=America/Anchorage:20190802T190000
LOCATION:Main Street Gallery
SUMMARY:Opening Reception - 'Blueberry Arts Festival Art Exhibit'
END:VEVENT
END:VCALENDAR
