BEGIN:VCALENDAR
VERSION:2.0
PRODID:-//www.ketchikanarts.org//NONSGML kigkonsult.se iCalcreator 2.30.10/
 /
CALSCALE:GREGORIAN
METHOD:PUBLISH
UID:66838349-8b76-4614-88c3-0aa1438e4936
X-WR-CALDESC:The Annual Blueberry Arts Festival is Ketchikan's favorite sum
 mer community event! Always the first weekend in August\, the Festival kic
 ks off Friday with the Pet and Doll Parade\, and continues through Sunday 
 with the Handmade Human Powered Blueberry boat Race\, the Poetry Slam and 
 finishes up withe the Gigglefeet Dance Festival final performance.
X-WR-RELCALID:e6e1a5f1255bdf2d6c84e5fcb18de9ff
X-WR-TIMEZONE:America/Anchorage
BEGIN:VTIMEZONE
TZID:America/Anchorage
BEGIN:STANDARD
TZNAME:AKST
DTSTART:20181104T020000
TZOFFSETFROM:-0800
TZOFFSETTO:-0900
RDATE:20191103T020000
RDATE:20201101T020000
END:STANDARD
BEGIN:DAYLIGHT
TZNAME:AKDT
DTSTART:20190310T020000
TZOFFSETFROM:-0900
TZOFFSETTO:-0800
RDATE:20200308T020000
END:DAYLIGHT
END:VTIMEZONE
BEGIN:VEVENT
UID:af5c0ee6-9399-4201-a9e8-740e8dd18c97
DTSTAMP:20260422T125324Z
DESCRIPTION:The Annual Blueberry Arts Festival is Ketchikan's favorite summ
 er community event! Always the first weekend in August\, the Festival kick
 s off Friday with the Pet and Doll Parade\, and continues through Sunday w
 ith the Handmade Human Powered Blueberry boat Race\, the Poetry Slam and f
 inishes up withe the Gigglefeet Dance Festival final performance.
DTSTART;TZID=America/Anchorage:20190802T140000
DTEND;TZID=America/Anchorage:20190804T210000
LOCATION:Downtown Ketchikan
SUMMARY:BLUEBERRY ARTS FESTIVAL!!
END:VEVENT
END:VCALENDAR
