BEGIN:VCALENDAR
VERSION:2.0
PRODID:-//www.ketchikanarts.org//NONSGML kigkonsult.se iCalcreator 2.30.10/
 /
CALSCALE:GREGORIAN
METHOD:PUBLISH
UID:794c5bf2-b37f-4046-9ccb-8f40a79592f3
X-WR-CALDESC:Practice\, Practice\, Practice those delish blueberry dishes! 
 Bring in your dish by 3:00 pm sharp to get it judged against the rest of K
 etchikan. Prizes for First\, Second\, and Third\, and Peoples Choice!\nRul
 es for the Best Blueberry Arts Festival Blueberry Dish…\n\n•	Dishes are due
  to the arts council – ready to serve before 3 pm on Friday\, August 2nd\,
  2019. \n•	Up to two recipes will be accepted.\n•	Your dish may be savory or
  sweet.\n•	Your dish should make a full recipe that will allow for a minimu
 m of 12 sample servings.\n•	The predominant flavor profile must be…BLUEBERR
 IES!!!\n•	The dish must be an original recipe OR your own personal adaptati
 on of a recipe. \n•	Your dish will be presented at the opening of the Blueb
 erry Arts Festival Art Exhibit.\n•	The winning dish will be featured on the
  specials menu for the month of August at the New York Cafe.\n
X-WR-RELCALID:978b11bed0263f73f559605ff4a75bfa
X-WR-TIMEZONE:America/Anchorage
BEGIN:VTIMEZONE
TZID:America/Anchorage
BEGIN:STANDARD
TZNAME:AKST
DTSTART:20181104T020000
TZOFFSETFROM:-0800
TZOFFSETTO:-0900
RDATE:20191103T020000
RDATE:20201101T020000
END:STANDARD
BEGIN:DAYLIGHT
TZNAME:AKDT
DTSTART:20190310T020000
TZOFFSETFROM:-0900
TZOFFSETTO:-0800
RDATE:20200308T020000
END:DAYLIGHT
END:VTIMEZONE
BEGIN:VEVENT
UID:cfbfc287-78e1-4fcf-ae96-0c1b44d98c2e
DTSTAMP:20260422T124940Z
DESCRIPTION:Practice\, Practice\, Practice those delish blueberry dishes! B
 ring in your dish by 3:00 pm sharp to get it judged against the rest of Ke
 tchikan. Prizes for First\, Second\, and Third\, and Peoples Choice!\nRule
 s for the Best Blueberry Arts Festival Blueberry Dish…\n\n•	Dishes are due 
 to the arts council – ready to serve before 3 pm on Friday\, August 2nd\, 
 2019. \n•	Up to two recipes will be accepted.\n•	Your dish may be savory or 
 sweet.\n•	Your dish should make a full recipe that will allow for a minimum
  of 12 sample servings.\n•	The predominant flavor profile must be…BLUEBERRI
 ES!!!\n•	The dish must be an original recipe OR your own personal adaptatio
 n of a recipe. \n•	Your dish will be presented at the opening of the Bluebe
 rry Arts Festival Art Exhibit.\n•	The winning dish will be featured on the 
 specials menu for the month of August at the New York Cafe.\n
DTSTART;TZID=America/Anchorage:20190802T120000
DTEND;TZID=America/Anchorage:20190802T150000
LOCATION:Main Street Gallery
SUMMARY:Best Blueberry Dish
END:VEVENT
END:VCALENDAR
