BEGIN:VCALENDAR
VERSION:2.0
PRODID:-//www.ketchikanarts.org//NONSGML kigkonsult.se iCalcreator 2.30.10/
 /
CALSCALE:GREGORIAN
METHOD:PUBLISH
UID:ddcc93e4-4b32-447e-850a-9c2764829d01
X-WR-CALDESC:The Gigglefeet Dance Festival is a community celebration of da
 nce produced through a collaborative effort by First City Players\, Ketchi
 kan Theatre Ballet and the Ketchikan Area Arts and Humanities Council. The
  Gigglefeet Dance Festival's mission is to strengthen the Ketchikan dance 
 community by supporting emerging and established dancers\, choreographers\
 , and encourage appreciation of dance throughout the community. Tickets - 
 Adults $18\, Students/Senior and Military $15
X-WR-RELCALID:e70e86386a52c31375e68bf09803ddb4
X-WR-TIMEZONE:America/Anchorage
BEGIN:VTIMEZONE
TZID:America/Anchorage
BEGIN:STANDARD
TZNAME:AKST
DTSTART:20181104T020000
TZOFFSETFROM:-0800
TZOFFSETTO:-0900
RDATE:20191103T020000
RDATE:20201101T020000
END:STANDARD
BEGIN:DAYLIGHT
TZNAME:AKDT
DTSTART:20190310T020000
TZOFFSETFROM:-0900
TZOFFSETTO:-0800
RDATE:20200308T020000
END:DAYLIGHT
END:VTIMEZONE
BEGIN:VEVENT
UID:dc4e92fa-be15-4e90-b05f-8565dfb1a58d
DTSTAMP:20260422T125728Z
DESCRIPTION:The Gigglefeet Dance Festival is a community celebration of dan
 ce produced through a collaborative effort by First City Players\, Ketchik
 an Theatre Ballet and the Ketchikan Area Arts and Humanities Council. The 
 Gigglefeet Dance Festival's mission is to strengthen the Ketchikan dance c
 ommunity by supporting emerging and established dancers\, choreographers\,
  and encourage appreciation of dance throughout the community. Tickets - A
 dults $18\, Students/Senior and Military $15
DTSTART;TZID=America/Anchorage:20190802T193000
DTEND;TZID=America/Anchorage:20190802T213000
LOCATION:Kayhi Auditorium
SUMMARY:20th Annual Gigglefeet Dance Festival - Opening Night
END:VEVENT
END:VCALENDAR
