BEGIN:VCALENDAR
VERSION:2.0
PRODID:-//www.ketchikanarts.org//NONSGML kigkonsult.se iCalcreator 2.30.10/
 /
CALSCALE:GREGORIAN
METHOD:PUBLISH
UID:76366acd-7f88-4663-a5b2-b7664956db2d
X-WR-CALDESC:The City of Ketchikan Presents Music on the Dock!\n2019 Summer
  concert series\nRain or shine bring a lunch and enjoy a noontime concert!
 !\nSunny days Berth 2\,\nrainy days Berth 3 shelter.
X-WR-RELCALID:054f25b5b781ee6b03616815c7db8264
X-WR-TIMEZONE:America/Anchorage
BEGIN:VTIMEZONE
TZID:America/Anchorage
BEGIN:STANDARD
TZNAME:AKST
DTSTART:20181104T020000
TZOFFSETFROM:-0800
TZOFFSETTO:-0900
RDATE:20191103T020000
RDATE:20201101T020000
END:STANDARD
BEGIN:DAYLIGHT
TZNAME:AKDT
DTSTART:20190310T020000
TZOFFSETFROM:-0900
TZOFFSETTO:-0800
RDATE:20200308T020000
END:DAYLIGHT
END:VTIMEZONE
BEGIN:VEVENT
UID:fa2ab5ac-ca6d-4980-82fd-c49f2a7c24f4
DTSTAMP:20260422T124839Z
DESCRIPTION:The City of Ketchikan Presents Music on the Dock!\n2019 Summer 
 concert series\nRain or shine bring a lunch and enjoy a noontime concert!!
 \nSunny days Berth 2\,\nrainy days Berth 3 shelter.
DTSTART;TZID=America/Anchorage:20190801T120000
DTEND;TZID=America/Anchorage:20190801T130000
LOCATION:Berth 2 or Berth 3
SUMMARY:The String Beings!
END:VEVENT
END:VCALENDAR
