BEGIN:VCALENDAR
VERSION:2.0
PRODID:-//www.ketchikanarts.org//NONSGML kigkonsult.se iCalcreator 2.30.10/
 /
CALSCALE:GREGORIAN
METHOD:PUBLISH
UID:12b55372-6921-4d31-a500-bc6ebd27cf6c
X-WR-CALDESC:\nT.A.G. is hosting an evening of crafts for those age 13 to 2
 5ish from 4:30 to 7:30 pm at the Ketchikan Public Library. Drop-in any tim
 e to create and make portable art using a variety of crafting supplies. Th
 ose participating in the teen summer program can earn two entries into the
  prize drawings as well as a space on the bingo cards. Free!
X-WR-RELCALID:ff72de11ac95f562397da0504972164d
X-WR-TIMEZONE:America/Anchorage
BEGIN:VTIMEZONE
TZID:America/Anchorage
BEGIN:STANDARD
TZNAME:AKST
DTSTART:20181104T020000
TZOFFSETFROM:-0800
TZOFFSETTO:-0900
RDATE:20191103T020000
RDATE:20201101T020000
END:STANDARD
BEGIN:DAYLIGHT
TZNAME:AKDT
DTSTART:20190310T020000
TZOFFSETFROM:-0900
TZOFFSETTO:-0800
RDATE:20200308T020000
END:DAYLIGHT
END:VTIMEZONE
BEGIN:VEVENT
UID:550826ba-d232-48ed-a680-42debdcd789c
DTSTAMP:20260422T143403Z
DESCRIPTION:\nT.A.G. is hosting an evening of crafts for those age 13 to 25
 ish from 4:30 to 7:30 pm at the Ketchikan Public Library. Drop-in any time
  to create and make portable art using a variety of crafting supplies. Tho
 se participating in the teen summer program can earn two entries into the 
 prize drawings as well as a space on the bingo cards. Free!
DTSTART;TZID=America/Anchorage:20190729T163000
DTEND;TZID=America/Anchorage:20190729T193000
LOCATION:Ketchikan Public Library
SUMMARY:Evening of Crafts
END:VEVENT
END:VCALENDAR
