BEGIN:VCALENDAR
VERSION:2.0
PRODID:-//www.ketchikanarts.org//NONSGML kigkonsult.se iCalcreator 2.30.10/
 /
CALSCALE:GREGORIAN
METHOD:PUBLISH
UID:43e245b0-1903-4099-87ae-255e7ff2b196
X-WR-CALDESC:Free Manga Drawing Class for Kids\, with instructor Ema Oshima
 . Supplies provided\, please call 225-3331 for more information.
X-WR-RELCALID:da32f5cb48b2160fbd6f6485bdd7344e
X-WR-TIMEZONE:America/Anchorage
BEGIN:VTIMEZONE
TZID:America/Anchorage
BEGIN:STANDARD
TZNAME:AKST
DTSTART:20181104T020000
TZOFFSETFROM:-0800
TZOFFSETTO:-0900
RDATE:20191103T020000
RDATE:20201101T020000
END:STANDARD
BEGIN:DAYLIGHT
TZNAME:AKDT
DTSTART:20190310T020000
TZOFFSETFROM:-0900
TZOFFSETTO:-0800
RDATE:20200308T020000
END:DAYLIGHT
END:VTIMEZONE
BEGIN:VEVENT
UID:9d303e2e-af7a-434b-9ac4-c8d28e595bf3
DTSTAMP:20260422T144224Z
DESCRIPTION:Free Manga Drawing Class for Kids\, with instructor Ema Oshima.
  Supplies provided\, please call 225-3331 for more information.
DTSTART;TZID=America/Anchorage:20190729T153000
DTEND;TZID=America/Anchorage:20190729T163000
LOCATION:Ketchikan Public Library
SUMMARY:Manga Drawing Class
END:VEVENT
END:VCALENDAR
