BEGIN:VCALENDAR
VERSION:2.0
PRODID:-//www.ketchikanarts.org//NONSGML kigkonsult.se iCalcreator 2.30.10/
 /
CALSCALE:GREGORIAN
METHOD:PUBLISH
UID:5ac74463-f18b-471b-b4b3-159e64dd0922
X-WR-CALDESC:A wonderful Magician entertains Ketchikan Straight off a Cruis
 e Ship\, Every Monday through September! Come enjoy a magical treat over y
 our lunch hour! Free
X-WR-RELCALID:96ce642d6aff3cdf218d0837c18dc3f3
X-WR-TIMEZONE:America/Anchorage
BEGIN:VTIMEZONE
TZID:America/Anchorage
BEGIN:STANDARD
TZNAME:AKST
DTSTART:20181104T020000
TZOFFSETFROM:-0800
TZOFFSETTO:-0900
RDATE:20191103T020000
RDATE:20201101T020000
END:STANDARD
BEGIN:DAYLIGHT
TZNAME:AKDT
DTSTART:20190310T020000
TZOFFSETFROM:-0900
TZOFFSETTO:-0800
RDATE:20200308T020000
END:DAYLIGHT
END:VTIMEZONE
BEGIN:VEVENT
UID:311c2353-d543-481c-8615-79cc436d1b83
DTSTAMP:20260422T143553Z
DESCRIPTION:A wonderful Magician entertains Ketchikan Straight off a Cruise
  Ship\, Every Monday through September! Come enjoy a magical treat over yo
 ur lunch hour! Free
DTSTART;TZID=America/Anchorage:20190729T120000
DTEND;TZID=America/Anchorage:20190729T130000
LOCATION:Creek Street Cabaret
SUMMARY:Magician
END:VEVENT
END:VCALENDAR
