BEGIN:VCALENDAR
VERSION:2.0
PRODID:-//www.ketchikanarts.org//NONSGML kigkonsult.se iCalcreator 2.30.10/
 /
CALSCALE:GREGORIAN
METHOD:PUBLISH
UID:e07add1d-5f35-4743-8add-bd38f42cdc9d
X-WR-CALDESC:The Austin Hays Trio perform Jazz in the morning! Sometimes th
 ey are joined by drop-in musicians who work on the Cruise Ships.
X-WR-RELCALID:d06373a5fc1c7a88af7c9eb3ab898a26
X-WR-TIMEZONE:America/Anchorage
BEGIN:VTIMEZONE
TZID:America/Anchorage
BEGIN:STANDARD
TZNAME:AKST
DTSTART:20181104T020000
TZOFFSETFROM:-0800
TZOFFSETTO:-0900
RDATE:20191103T020000
RDATE:20201101T020000
END:STANDARD
BEGIN:DAYLIGHT
TZNAME:AKDT
DTSTART:20190310T020000
TZOFFSETFROM:-0900
TZOFFSETTO:-0800
RDATE:20200308T020000
END:DAYLIGHT
END:VTIMEZONE
BEGIN:VEVENT
UID:a7efcc2d-3a4f-4342-99d7-8fe59a0de01d
DTSTAMP:20260422T144435Z
DESCRIPTION:The Austin Hays Trio perform Jazz in the morning! Sometimes the
 y are joined by drop-in musicians who work on the Cruise Ships.
DTSTART;TZID=America/Anchorage:20190729T093000
DTEND;TZID=America/Anchorage:20190729T113000
LOCATION:Creek Street Cabaret
SUMMARY:Austin Hays Trio
END:VEVENT
END:VCALENDAR
