BEGIN:VCALENDAR
VERSION:2.0
PRODID:-//www.ketchikanarts.org//NONSGML kigkonsult.se iCalcreator 2.30.10/
 /
CALSCALE:GREGORIAN
METHOD:PUBLISH
UID:0d988665-c78e-4b21-9e14-a40ccc806e28
X-WR-CALDESC:Doors open at 7:00 pm for a 1 hour Swing Class $5 Evon Zerbets
  teaches the basic Swing fundamentals\nLive Music starts at 8:00 with the 
 'Why Not Dance Band' $5 Cover practice all your newly acquired skills with
  the tunes from a live band!!\nA Fun Evening at the Creek Street Cabaret!!
 !
X-WR-RELCALID:90ef5b33eeb1475498ab7f13b8668000
X-WR-TIMEZONE:America/Anchorage
BEGIN:VTIMEZONE
TZID:America/Anchorage
BEGIN:STANDARD
TZNAME:AKST
DTSTART:20181104T020000
TZOFFSETFROM:-0800
TZOFFSETTO:-0900
RDATE:20191103T020000
RDATE:20201101T020000
END:STANDARD
BEGIN:DAYLIGHT
TZNAME:AKDT
DTSTART:20190310T020000
TZOFFSETFROM:-0900
TZOFFSETTO:-0800
RDATE:20200308T020000
END:DAYLIGHT
END:VTIMEZONE
BEGIN:VEVENT
UID:57be34e5-46a3-4f3f-b982-fd44f921e79e
DTSTAMP:20260422T142842Z
DESCRIPTION:Doors open at 7:00 pm for a 1 hour Swing Class $5 Evon Zerbets 
 teaches the basic Swing fundamentals\nLive Music starts at 8:00 with the '
 Why Not Dance Band' $5 Cover practice all your newly acquired skills with 
 the tunes from a live band!!\nA Fun Evening at the Creek Street Cabaret!!!
DTSTART;TZID=America/Anchorage:20190727T190000
DTEND;TZID=America/Anchorage:20190727T220000
LOCATION:Creek Street Cabaret
SUMMARY:BOOMbal Dance Hall Swing Event!
END:VEVENT
END:VCALENDAR
