BEGIN:VCALENDAR
VERSION:2.0
PRODID:-//www.ketchikanarts.org//NONSGML kigkonsult.se iCalcreator 2.30.10/
 /
CALSCALE:GREGORIAN
METHOD:PUBLISH
UID:0e8eeee9-b980-497b-a6cc-828d6ccf8c69
X-WR-CALDESC:Obvious Jazz\, Rob Holston and his array of instruments will b
 e playing throughout the summer at Salmon Falls Resort. Enjoy a romantic e
 vening and a trip down memory lane with his tributes to Frank Sinatra. Eve
 ry Saturday evening.
X-WR-RELCALID:dd028a7c6862a51c29bd47c725ed95a2
X-WR-TIMEZONE:America/Anchorage
BEGIN:VTIMEZONE
TZID:America/Anchorage
BEGIN:STANDARD
TZNAME:AKST
DTSTART:20181104T020000
TZOFFSETFROM:-0800
TZOFFSETTO:-0900
RDATE:20191103T020000
RDATE:20201101T020000
END:STANDARD
BEGIN:DAYLIGHT
TZNAME:AKDT
DTSTART:20190310T020000
TZOFFSETFROM:-0900
TZOFFSETTO:-0800
RDATE:20200308T020000
END:DAYLIGHT
END:VTIMEZONE
BEGIN:VEVENT
UID:50934cf7-a4f2-4a8f-87e8-9034bbb172e1
DTSTAMP:20260422T142546Z
DESCRIPTION:Obvious Jazz\, Rob Holston and his array of instruments will be
  playing throughout the summer at Salmon Falls Resort. Enjoy a romantic ev
 ening and a trip down memory lane with his tributes to Frank Sinatra. Ever
 y Saturday evening.
DTSTART;TZID=America/Anchorage:20190727T180000
DTEND;TZID=America/Anchorage:20190727T210000
LOCATION:Salmon Falls Resort
SUMMARY:Obvious Jazz Performs!
END:VEVENT
END:VCALENDAR
