BEGIN:VCALENDAR
VERSION:2.0
PRODID:-//www.ketchikanarts.org//NONSGML kigkonsult.se iCalcreator 2.30.10/
 /
CALSCALE:GREGORIAN
METHOD:PUBLISH
UID:c7c367ea-c2a7-419e-8f15-cce597cdfeb1
X-WR-CALDESC:Shelly Hill\, licensed yoga instructor\, takes you through an 
 artful\, mindful\, 1-hour yoga session. in the beautiful ambiance of the M
 ain Street Gallery $5
X-WR-RELCALID:8ea5dbeb342c72b6edd1fd4a2f6865f3
X-WR-TIMEZONE:America/Anchorage
BEGIN:VTIMEZONE
TZID:America/Anchorage
BEGIN:STANDARD
TZNAME:AKST
DTSTART:20181104T020000
TZOFFSETFROM:-0800
TZOFFSETTO:-0900
RDATE:20191103T020000
RDATE:20201101T020000
END:STANDARD
BEGIN:DAYLIGHT
TZNAME:AKDT
DTSTART:20190310T020000
TZOFFSETFROM:-0900
TZOFFSETTO:-0800
RDATE:20200308T020000
END:DAYLIGHT
END:VTIMEZONE
BEGIN:VEVENT
UID:23651790-9751-4ff3-b659-cb1695c55e28
DTSTAMP:20260422T144506Z
DESCRIPTION:Shelly Hill\, licensed yoga instructor\, takes you through an a
 rtful\, mindful\, 1-hour yoga session. in the beautiful ambiance of the Ma
 in Street Gallery $5
DTSTART;TZID=America/Anchorage:20190725T173000
DTEND;TZID=America/Anchorage:20190725T183000
LOCATION:Main Street Gallery
SUMMARY:Artful Yoga
END:VEVENT
END:VCALENDAR
