BEGIN:VCALENDAR
VERSION:2.0
PRODID:-//www.ketchikanarts.org//NONSGML kigkonsult.se iCalcreator 2.30.10/
 /
CALSCALE:GREGORIAN
METHOD:PUBLISH
UID:a44f611f-2a86-4b9b-9c44-a9d516d7629b
X-WR-CALDESC:City of Ketchikan Presents Music on the Dock!\n2019 Summer con
 cert series\nRain or shine bring a lunch and enjoy a noontime concert!!\nR
 ainy Days Berth 3 shelter\nSunny Days Berth 2
X-WR-RELCALID:2376f71ab845269c5f00b927a62250a2
X-WR-TIMEZONE:America/Anchorage
BEGIN:VTIMEZONE
TZID:America/Anchorage
BEGIN:STANDARD
TZNAME:AKST
DTSTART:20181104T020000
TZOFFSETFROM:-0800
TZOFFSETTO:-0900
RDATE:20191103T020000
RDATE:20201101T020000
END:STANDARD
BEGIN:DAYLIGHT
TZNAME:AKDT
DTSTART:20190310T020000
TZOFFSETFROM:-0900
TZOFFSETTO:-0800
RDATE:20200308T020000
END:DAYLIGHT
END:VTIMEZONE
BEGIN:VEVENT
UID:ad47242b-a37d-4419-a156-d18e6d292985
DTSTAMP:20260422T144703Z
DESCRIPTION:City of Ketchikan Presents Music on the Dock!\n2019 Summer conc
 ert series\nRain or shine bring a lunch and enjoy a noontime concert!!\nRa
 iny Days Berth 3 shelter\nSunny Days Berth 2
DTSTART;TZID=America/Anchorage:20190722T120000
DTEND;TZID=America/Anchorage:20190722T130000
LOCATION:Berth 2 or Berth 3
SUMMARY:The Compass Roses - Music on the Dock
END:VEVENT
END:VCALENDAR
