BEGIN:VCALENDAR
VERSION:2.0
PRODID:-//www.ketchikanarts.org//NONSGML kigkonsult.se iCalcreator 2.30.10/
 /
CALSCALE:GREGORIAN
METHOD:PUBLISH
UID:5ac2fb89-291c-4831-aa80-f2fed3f44c57
X-WR-CALDESC:'Fish Pirate's Daughter' with Crab or Salmon FEAST is a staple
  in our summer fare. Tickets - Adults $50\, Youth under 12 $25
X-WR-RELCALID:f3cabeb0eedcf043ee732dc63b6aae6c
X-WR-TIMEZONE:America/Anchorage
BEGIN:VTIMEZONE
TZID:America/Anchorage
BEGIN:STANDARD
TZNAME:AKST
DTSTART:20181104T020000
TZOFFSETFROM:-0800
TZOFFSETTO:-0900
RDATE:20191103T020000
RDATE:20201101T020000
END:STANDARD
BEGIN:DAYLIGHT
TZNAME:AKDT
DTSTART:20190310T020000
TZOFFSETFROM:-0900
TZOFFSETTO:-0800
RDATE:20200308T020000
END:DAYLIGHT
END:VTIMEZONE
BEGIN:VEVENT
UID:bb652ba0-fa85-4cb6-bb0d-a7ed974988e3
DTSTAMP:20260422T144534Z
DESCRIPTION:'Fish Pirate's Daughter' with Crab or Salmon FEAST is a staple 
 in our summer fare. Tickets - Adults $50\, Youth under 12 $25
DTSTART;TZID=America/Anchorage:20190719T193000
DTEND;TZID=America/Anchorage:20190719T213000
LOCATION:Ted Ferry Civic Center
SUMMARY:First City Players 'Fish Pirate's Daughter'
END:VEVENT
END:VCALENDAR
