BEGIN:VCALENDAR
VERSION:2.0
PRODID:-//www.ketchikanarts.org//NONSGML kigkonsult.se iCalcreator 2.30.10/
 /
CALSCALE:GREGORIAN
METHOD:PUBLISH
UID:97f6b53d-eea5-4fda-81cd-76133995d52d
X-WR-CALDESC:The City of Ketchikan Presents Music on the Dock!\n2019 Summer
  concert series\nRain or shine bring a lunch and enjoy a noontime concert!
 !\nSunny days Berth 2\,\nrainy days Berth 3 shelter.
X-WR-RELCALID:5c1007742be294a199c931f7a774ade9
X-WR-TIMEZONE:America/Anchorage
BEGIN:VTIMEZONE
TZID:America/Anchorage
BEGIN:STANDARD
TZNAME:AKST
DTSTART:20181104T020000
TZOFFSETFROM:-0800
TZOFFSETTO:-0900
RDATE:20191103T020000
RDATE:20201101T020000
END:STANDARD
BEGIN:DAYLIGHT
TZNAME:AKDT
DTSTART:20190310T020000
TZOFFSETFROM:-0900
TZOFFSETTO:-0800
RDATE:20200308T020000
END:DAYLIGHT
END:VTIMEZONE
BEGIN:VEVENT
UID:890aff35-d600-4dde-b219-83f9038d6440
DTSTAMP:20260422T144703Z
DESCRIPTION:The City of Ketchikan Presents Music on the Dock!\n2019 Summer 
 concert series\nRain or shine bring a lunch and enjoy a noontime concert!!
 \nSunny days Berth 2\,\nrainy days Berth 3 shelter.
DTSTART;TZID=America/Anchorage:20190718T120000
DTEND;TZID=America/Anchorage:20190718T130000
LOCATION:Berth 2 or Berth 3
SUMMARY:Lallette's Broadway Favs
END:VEVENT
END:VCALENDAR
