BEGIN:VCALENDAR
VERSION:2.0
PRODID:-//www.ketchikanarts.org//NONSGML kigkonsult.se iCalcreator 2.30.10/
 /
CALSCALE:GREGORIAN
METHOD:PUBLISH
UID:20aa5912-4b62-452f-97bc-6ad9a65780e3
X-WR-CALDESC:Emily Moore assistant professor in the Department of Art and A
 rt History at Colorado State University will be at the Ketchikan Public Li
 brary. She will select pages to read from the book she has beautifully wri
 tten titled ‘Proud Raven\, Panting Wolf Carving Alaska’s New Deal Totem Pa
 rks’ and be available for signing. Please attend and bring a friend or cou
 sin! Books will be available for purchase courtesy of Parnassus Books!
X-WR-RELCALID:640f6c84f11ee6fc79206c391be05d66
X-WR-TIMEZONE:America/Anchorage
BEGIN:VTIMEZONE
TZID:America/Anchorage
BEGIN:STANDARD
TZNAME:AKST
DTSTART:20181104T020000
TZOFFSETFROM:-0800
TZOFFSETTO:-0900
RDATE:20191103T020000
RDATE:20201101T020000
END:STANDARD
BEGIN:DAYLIGHT
TZNAME:AKDT
DTSTART:20190310T020000
TZOFFSETFROM:-0900
TZOFFSETTO:-0800
RDATE:20200308T020000
END:DAYLIGHT
END:VTIMEZONE
BEGIN:VEVENT
UID:40c5f807-dd30-4b86-b118-1d321f60cf85
DTSTAMP:20260422T142314Z
DESCRIPTION:Emily Moore assistant professor in the Department of Art and Ar
 t History at Colorado State University will be at the Ketchikan Public Lib
 rary. She will select pages to read from the book she has beautifully writ
 ten titled ‘Proud Raven\, Panting Wolf Carving Alaska’s New Deal Totem Par
 ks’ and be available for signing. Please attend and bring a friend or cous
 in! Books will be available for purchase courtesy of Parnassus Books!
DTSTART;TZID=America/Anchorage:20190717T183000
DTEND;TZID=America/Anchorage:20190717T193000
LOCATION:Ketchikan Public Library
SUMMARY:Book Signing
END:VEVENT
END:VCALENDAR
