BEGIN:VCALENDAR
VERSION:2.0
PRODID:-//www.ketchikanarts.org//NONSGML kigkonsult.se iCalcreator 2.30.10/
 /
CALSCALE:GREGORIAN
METHOD:PUBLISH
UID:cefd0c46-5700-481a-a553-b5d4fe7b6826
X-WR-CALDESC:Free Manga Drawing Class with instructor Ema Oshima. Supplies 
 provided. Call 225-3331 for more information.
X-WR-RELCALID:410dbb53083678ca472971c506d5f4e0
X-WR-TIMEZONE:America/Anchorage
BEGIN:VTIMEZONE
TZID:America/Anchorage
BEGIN:STANDARD
TZNAME:AKST
DTSTART:20181104T020000
TZOFFSETFROM:-0800
TZOFFSETTO:-0900
RDATE:20191103T020000
RDATE:20201101T020000
END:STANDARD
BEGIN:DAYLIGHT
TZNAME:AKDT
DTSTART:20190310T020000
TZOFFSETFROM:-0900
TZOFFSETTO:-0800
RDATE:20200308T020000
END:DAYLIGHT
END:VTIMEZONE
BEGIN:VEVENT
UID:0913e7eb-cc3c-4939-a19a-9f07bb07fb62
DTSTAMP:20260422T144826Z
DESCRIPTION:Free Manga Drawing Class with instructor Ema Oshima. Supplies p
 rovided. Call 225-3331 for more information.
DTSTART;TZID=America/Anchorage:20190715T163000
DTEND;TZID=America/Anchorage:20190715T173000
LOCATION:Ketchikan Public Library
SUMMARY:Manga Drawing Class Adult
END:VEVENT
END:VCALENDAR
