BEGIN:VCALENDAR
VERSION:2.0
PRODID:-//www.ketchikanarts.org//NONSGML kigkonsult.se iCalcreator 2.30.10/
 /
CALSCALE:GREGORIAN
METHOD:PUBLISH
UID:cd7a800e-f1fb-42e9-8e3a-b10dc00cf758
X-WR-CALDESC:Free Manga Drawing Class for Kids\, with instructor Ema Oshima
 . Supplies provided\, please call 225-3331 for more information.
X-WR-RELCALID:b76a331232e4a12c9306ea1c64bd1383
X-WR-TIMEZONE:America/Anchorage
BEGIN:VTIMEZONE
TZID:America/Anchorage
BEGIN:STANDARD
TZNAME:AKST
DTSTART:20181104T020000
TZOFFSETFROM:-0800
TZOFFSETTO:-0900
RDATE:20191103T020000
RDATE:20201101T020000
END:STANDARD
BEGIN:DAYLIGHT
TZNAME:AKDT
DTSTART:20190310T020000
TZOFFSETFROM:-0900
TZOFFSETTO:-0800
RDATE:20200308T020000
END:DAYLIGHT
END:VTIMEZONE
BEGIN:VEVENT
UID:d9e797e0-77b1-488d-b1bc-7aebc40a1ce3
DTSTAMP:20260422T143536Z
DESCRIPTION:Free Manga Drawing Class for Kids\, with instructor Ema Oshima.
  Supplies provided\, please call 225-3331 for more information.
DTSTART;TZID=America/Anchorage:20190715T153000
DTEND;TZID=America/Anchorage:20190715T163000
LOCATION:Ketchikan Public Library
SUMMARY:Manga Drawing Class
END:VEVENT
END:VCALENDAR
