BEGIN:VCALENDAR
VERSION:2.0
PRODID:-//www.ketchikanarts.org//NONSGML kigkonsult.se iCalcreator 2.30.10/
 /
CALSCALE:GREGORIAN
METHOD:PUBLISH
UID:acfaf299-0d0f-41dc-aec2-30069442a023
X-WR-CALDESC:Each week participants will discuss a short reading. Call 225-
 3331 for more information.
X-WR-RELCALID:62b24fdab8de458bcb489dd1223fa826
X-WR-TIMEZONE:America/Anchorage
BEGIN:VTIMEZONE
TZID:America/Anchorage
BEGIN:STANDARD
TZNAME:AKST
DTSTART:20181104T020000
TZOFFSETFROM:-0800
TZOFFSETTO:-0900
RDATE:20191103T020000
RDATE:20201101T020000
END:STANDARD
BEGIN:DAYLIGHT
TZNAME:AKDT
DTSTART:20190310T020000
TZOFFSETFROM:-0900
TZOFFSETTO:-0800
RDATE:20200308T020000
END:DAYLIGHT
END:VTIMEZONE
BEGIN:VEVENT
UID:2f749f66-dc3f-4c05-97c9-d37e23117c37
DTSTAMP:20260422T142702Z
DESCRIPTION:Each week participants will discuss a short reading. Call 225-3
 331 for more information.
DTSTART;TZID=America/Anchorage:20190715T120000
DTEND;TZID=America/Anchorage:20190715T130000
LOCATION:Ketchikan Public Library
SUMMARY:Social Justice Reading Group
END:VEVENT
END:VCALENDAR
