BEGIN:VCALENDAR
VERSION:2.0
PRODID:-//www.ketchikanarts.org//NONSGML kigkonsult.se iCalcreator 2.30.10/
 /
CALSCALE:GREGORIAN
METHOD:PUBLISH
UID:1788e620-38d9-4230-8548-0eb114b69b0b
X-WR-CALDESC:Cullen McCormick\, Austin Hays\, Chazz Gist Play their Rock n 
 Roll and Blues tunes!  $5.00 Cover
X-WR-RELCALID:bdf183c993c60ff8d0efbe0c7de431a2
X-WR-TIMEZONE:America/Anchorage
BEGIN:VTIMEZONE
TZID:America/Anchorage
BEGIN:STANDARD
TZNAME:AKST
DTSTART:20181104T020000
TZOFFSETFROM:-0800
TZOFFSETTO:-0900
RDATE:20191103T020000
RDATE:20201101T020000
END:STANDARD
BEGIN:DAYLIGHT
TZNAME:AKDT
DTSTART:20190310T020000
TZOFFSETFROM:-0900
TZOFFSETTO:-0800
RDATE:20200308T020000
END:DAYLIGHT
END:VTIMEZONE
BEGIN:VEVENT
UID:e040cd41-47b8-4f0b-8bf1-acd37d09773f
DTSTAMP:20260422T142334Z
DESCRIPTION:Cullen McCormick\, Austin Hays\, Chazz Gist Play their Rock n R
 oll and Blues tunes!  $5.00 Cover
DTSTART;TZID=America/Anchorage:20190713T200000
DTEND;TZID=America/Anchorage:20190713T220000
LOCATION:Creek Street Cabaret
SUMMARY:Slow Tide
END:VEVENT
END:VCALENDAR
