BEGIN:VCALENDAR
VERSION:2.0
PRODID:-//www.ketchikanarts.org//NONSGML kigkonsult.se iCalcreator 2.30.10/
 /
CALSCALE:GREGORIAN
METHOD:PUBLISH
UID:9dfadd92-d894-4c75-a003-1e90db44d97b
X-WR-CALDESC:'Fish Pirate's Daughter' with Crab or Salmon FEAST is a staple
  in our summer fare. Tickets - Adults $50\, Youth under 12 $25
X-WR-RELCALID:38c6742b51bfa74c19300305f0492139
X-WR-TIMEZONE:America/Anchorage
BEGIN:VTIMEZONE
TZID:America/Anchorage
BEGIN:STANDARD
TZNAME:AKST
DTSTART:20181104T020000
TZOFFSETFROM:-0800
TZOFFSETTO:-0900
RDATE:20191103T020000
RDATE:20201101T020000
END:STANDARD
BEGIN:DAYLIGHT
TZNAME:AKDT
DTSTART:20190310T020000
TZOFFSETFROM:-0900
TZOFFSETTO:-0800
RDATE:20200308T020000
END:DAYLIGHT
END:VTIMEZONE
BEGIN:VEVENT
UID:47c14a49-8eb2-4297-b3e0-014248cb7102
DTSTAMP:20260422T144653Z
DESCRIPTION:'Fish Pirate's Daughter' with Crab or Salmon FEAST is a staple 
 in our summer fare. Tickets - Adults $50\, Youth under 12 $25
DTSTART;TZID=America/Anchorage:20190713T193000
DTEND;TZID=America/Anchorage:20190713T213000
LOCATION:Ted Ferry Civic Center
SUMMARY:First City Players 'Fish Pirate's Daughter'
END:VEVENT
END:VCALENDAR
